BEGIN:VCALENDAR
VERSION:2.0
PRODID:-//Bairfind.org - ECPv5.14.1//NONSGML v1.0//EN
CALSCALE:GREGORIAN
METHOD:PUBLISH
X-WR-CALNAME:Bairfind.org
X-ORIGINAL-URL:https://www.bairfind.org
X-WR-CALDESC:Events for Bairfind.org
BEGIN:VTIMEZONE
TZID:UTC
BEGIN:STANDARD
TZOFFSETFROM:+0000
TZOFFSETTO:+0000
TZNAME:UTC
DTSTART:20150101T000000
END:STANDARD
END:VTIMEZONE
BEGIN:VEVENT
DTSTART;VALUE=DATE:20150509
DTEND;VALUE=DATE:20150510
DTSTAMP:20260423T155754
CREATED:20150505T065230Z
LAST-MODIFIED:20150505T065230Z
UID:1354-1431129600-1431215999@www.bairfind.org
SUMMARY:Workshop by Bob Doe
DESCRIPTION:Donec mollis\, metus a varius faucibus\, est magna tempor mauris\, sit amet lobortis nunc sem non lectus. Proin vitae feugiat lorem\, nec lacinia massa. Integer interdum ipsum sed placerat posuere. Etiam dapibus ante in lacus lacinia\, non convallis quam luctus. Vivamus augue nibh\, fermentum quis justo sed\, fermentum maximus magna. Morbi venenatis eros velit\, elementum sodales turpis viverra at. Phasellus finibus mauris a massa malesuada faucibus. Duis euismod vehicula enim eu placerat. Aenean dictum eget lacus in fermentum. Cras ac ipsum imperdiet\, bibendum tortor quis\, mollis risus. Aliquam quis dapibus est. Vestibulum elementum\, ante nec tristique rutrum\, risus augue dapibus sem\, ut bibendum dolor urna sed lacus.
URL:https://www.bairfind.org/event/workshop-by-bob-doe/
LOCATION:University of Maryland\, 620 W Lexington St Baltimore\, MD 21201\, Baltimore\, MD\, United States
CATEGORIES:Donations
ORGANIZER;CN="Andrew%20Doe":MAILTO:example@mail.com
END:VEVENT
END:VCALENDAR